BEGIN:VCALENDAR
VERSION:2.0
PRODID:-//Edge Delivery Services - ECPv6.15.16//NONSGML v1.0//EN
CALSCALE:GREGORIAN
METHOD:PUBLISH
X-WR-CALNAME:Edge Delivery Services
X-ORIGINAL-URL:https://edgedeliveryservices.com
X-WR-CALDESC:Events for Edge Delivery Services
REFRESH-INTERVAL;VALUE=DURATION:PT1H
X-Robots-Tag:noindex
X-PUBLISHED-TTL:PT1H
BEGIN:VTIMEZONE
TZID:UTC
BEGIN:STANDARD
TZOFFSETFROM:+0000
TZOFFSETTO:+0000
TZNAME:UTC
DTSTART:20250101T000000
END:STANDARD
END:VTIMEZONE
BEGIN:VEVENT
DTSTART;TZID=UTC:20260601T080000
DTEND;TZID=UTC:20260601T170000
DTSTAMP:20260421T175800
CREATED:20260220T191123Z
LAST-MODIFIED:20260220T191123Z
UID:2792-1780300800-1780333200@edgedeliveryservices.com
SUMMARY:doha street 12 villa 23
DESCRIPTION:أمين منصور الحفني
URL:https://edgedeliveryservices.com/event/doha-street-12-villa-23-2/
ATTACH;FMTTYPE=image/jpeg:https://edgedeliveryservices.com/wp-content/uploads/2026/02/QNB_QatarNationalBank_QA.jpg
END:VEVENT
END:VCALENDAR